BEGIN:VCALENDAR
VERSION:2.0
PRODID:-//Klimaan is een burgerbeweging in groot Mechelen
CALSCALE:GREGORIAN
METHOD:PUBLISH
X-WR-CALNAME:Klimaan is een burgerbeweging in groot Mechelen
X-ORIGINAL-URL:https://klimaan.be/kalender/seizoencommon-lucht/
X-WR-CALDESC:Seizoencommon Lucht: thema mobiliteit
BEGIN:VEVENT
DTSTART:20260322T093000
DTEND:20260322T130000
SUMMARY:Seizoencommon Lucht: thema mobiliteit
DESCRIPTION:
URL:https://klimaan.be/kalender/seizoencommon-lucht/
LOCATION:Vrijbroekpark, Onthaalcentrum
END:VEVENT
END:VCALENDAR
